BEGIN:VCALENDAR
VERSION:2.0
PRODID:-//Finnish Jaguar Drivers' Club Ry - ECPv6.0.5//NONSGML v1.0//EN
CALSCALE:GREGORIAN
METHOD:PUBLISH
X-WR-CALNAME:Finnish Jaguar Drivers' Club Ry
X-ORIGINAL-URL:https://www.fjdc.fi
X-WR-CALDESC:Tapahtumat Finnish Jaguar Drivers' Club Ry
REFRESH-INTERVAL;VALUE=DURATION:PT1H
X-Robots-Tag:noindex
X-PUBLISHED-TTL:PT1H
BEGIN:VTIMEZONE
TZID:UTC
BEGIN:STANDARD
TZOFFSETFROM:+0000
TZOFFSETTO:+0000
TZNAME:UTC
DTSTART:20260101T000000
END:STANDARD
TZID:Europe/Helsinki
BEGIN:DAYLIGHT
TZOFFSETFROM:+0200
TZOFFSETTO:+0300
TZNAME:EEST
DTSTART:20260329T010000
END:DAYLIGHT
BEGIN:STANDARD
TZOFFSETFROM:+0300
TZOFFSETTO:+0200
TZNAME:EET
DTSTART:20261025T010000
END:STANDARD
END:VTIMEZONE
BEGIN:VEVENT
DTSTART;TZID=UTC:20260502T090000
DTEND;TZID=UTC:20260503T180000
DTSTAMP:20260425T221442
CREATED:20260110T051348Z
LAST-MODIFIED:20260110T051348Z
UID:2404-1777712400-1777831200@www.fjdc.fi
SUMMARY:Lahti Classic Motorshow
DESCRIPTION:Klubilla on oma osasto. Vuoden 2026 teema on ”Ojasta allikkoon”.
URL:https://www.fjdc.fi/tapahtumat/lahti-classic-motorshow-4/
LOCATION:Lahden uhrheilu- ja messukeskus\, Salpausselänkatu 7\, Lahti\, 15110
CATEGORIES:Yleiset tapahtumat
ATTACH;FMTTYPE=image/jpeg:https://www.fjdc.fi/wp-content/uploads/2024/02/DSC1884-scaled-1.jpg
END:VEVENT
BEGIN:VEVENT
DTSTART;TZID=Europe/Helsinki:20260515T180000
DTEND;TZID=Europe/Helsinki:20260515T210000
DTSTAMP:20260425T221442
CREATED:20260110T052353Z
LAST-MODIFIED:20260110T052353Z
UID:2415-1778868000-1778878800@www.fjdc.fi
SUMMARY:Vantaa Cruising
DESCRIPTION:Perinteiset cruisingit säässä kuin säässä.
URL:https://www.fjdc.fi/tapahtumat/vantaa-cruising-14/
LOCATION:Heureka\, Tiedepuisto 1\, Vantaa\, 01300
CATEGORIES:Yleiset tapahtumat
END:VEVENT
BEGIN:VEVENT
DTSTART;TZID=Europe/Helsinki:20260523T080000
DTEND;TZID=Europe/Helsinki:20260524T170000
DTSTAMP:20260425T221442
CREATED:20260110T052726Z
LAST-MODIFIED:20260110T052726Z
UID:2419-1779523200-1779642000@www.fjdc.fi
SUMMARY:Mama's Classics XIX
DESCRIPTION:Koko perheen tapahtuma\, missä yhteistyöllä pääsee pitkälle.
URL:https://www.fjdc.fi/tapahtumat/mamas-classics-xix/
CATEGORIES:Yleiset tapahtumat
ATTACH;FMTTYPE=image/jpeg:https://www.fjdc.fi/wp-content/uploads/2024/02/mamas.jpg
END:VEVENT
BEGIN:VEVENT
DTSTART;TZID=Europe/Helsinki:20260527T180000
DTEND;TZID=Europe/Helsinki:20260527T200000
DTSTAMP:20260425T221442
CREATED:20260110T052950Z
LAST-MODIFIED:20260110T052950Z
UID:2421-1779904800-1779912000@www.fjdc.fi
SUMMARY:Lahtelaiset Britit kohtaavat
DESCRIPTION:Suomen moottoripyörämuseo Lahdessa.
URL:https://www.fjdc.fi/tapahtumat/lahtelaiset-britit-kohtaavat-14/
LOCATION:Suomen moottoripyörämuseo\, Veistämönkatu 1\, Lahti\, 15140
CATEGORIES:Yleiset tapahtumat
END:VEVENT
BEGIN:VEVENT
DTSTART;TZID=Europe/Helsinki:20260605T180000
DTEND;TZID=Europe/Helsinki:20260605T233000
DTSTAMP:20260425T221442
CREATED:20260111T052603Z
LAST-MODIFIED:20260111T052732Z
UID:2425-1780682400-1780702200@www.fjdc.fi
SUMMARY:Stadin Cruising Night
DESCRIPTION:Perinteinen tapahtuma Helsingissä. Ajankohtaiset tiedot löytyvät Cruisingnight-sivuilta.
URL:https://www.fjdc.fi/tapahtumat/stadin-cruising-night-15/
LOCATION:Eteläranta\, Kauppatori\, Helsinki\, 00170
CATEGORIES:Yleiset tapahtumat
ATTACH;FMTTYPE=image/jpeg:https://www.fjdc.fi/wp-content/uploads/2022/12/1682330_1961-Jagur-E-Type_885005_Geneva_Zumbrunn_Schmid_04-2000px-950x640-1.jpg
END:VEVENT
BEGIN:VEVENT
DTSTART;TZID=Europe/Helsinki:20260614T080000
DTEND;TZID=Europe/Helsinki:20260614T170000
DTSTAMP:20260425T221442
CREATED:20260111T053025Z
LAST-MODIFIED:20260111T053058Z
UID:2429-1781424000-1781456400@www.fjdc.fi
SUMMARY:Harjattula Concours d’Elegance
DESCRIPTION:
URL:https://www.fjdc.fi/tapahtumat/harjattula-concours-delegance-4/
CATEGORIES:Yleiset tapahtumat
END:VEVENT
BEGIN:VEVENT
DTSTART;TZID=Europe/Helsinki:20260619T180000
DTEND;TZID=Europe/Helsinki:20260619T210000
DTSTAMP:20260425T221442
CREATED:20260111T053843Z
LAST-MODIFIED:20260111T053843Z
UID:2445-1781892000-1781902800@www.fjdc.fi
SUMMARY:Vantaa Cruising
DESCRIPTION:Perinteiset cruisingit säässä kuin säässä.
URL:https://www.fjdc.fi/tapahtumat/vantaa-cruising-16/
LOCATION:Heureka\, Tiedepuisto 1\, Vantaa\, 01300
CATEGORIES:Yleiset tapahtumat
END:VEVENT
BEGIN:VEVENT
DTSTART;TZID=Europe/Helsinki:20260624T180000
DTEND;TZID=Europe/Helsinki:20260624T200000
DTSTAMP:20260425T221442
CREATED:20260111T053306Z
LAST-MODIFIED:20260111T053306Z
UID:2433-1782324000-1782331200@www.fjdc.fi
SUMMARY:Lahtelaiset Britit kohtaavat
DESCRIPTION:Suomen moottoripyörämuseo Lahdessa.
URL:https://www.fjdc.fi/tapahtumat/lahtelaiset-britit-kohtaavat-15/
LOCATION:Suomen moottoripyörämuseo\, Veistämönkatu 1\, Lahti\, 15140
CATEGORIES:Yleiset tapahtumat
END:VEVENT
BEGIN:VEVENT
DTSTART;TZID=Europe/Helsinki:20260703T180000
DTEND;TZID=Europe/Helsinki:20260703T233000
DTSTAMP:20260425T221442
CREATED:20260111T053457Z
LAST-MODIFIED:20260111T053457Z
UID:2437-1783101600-1783121400@www.fjdc.fi
SUMMARY:Stadin Cruising Night
DESCRIPTION:Perinteinen tapahtuma Helsingissä. Ajankohtaiset tiedot löytyvät Cruisingnight-sivuilta.
URL:https://www.fjdc.fi/tapahtumat/stadin-cruising-night-16/
LOCATION:Eteläranta\, Kauppatori\, Helsinki\, 00170
CATEGORIES:Yleiset tapahtumat
ATTACH;FMTTYPE=image/jpeg:https://www.fjdc.fi/wp-content/uploads/2022/12/1682330_1961-Jagur-E-Type_885005_Geneva_Zumbrunn_Schmid_04-2000px-950x640-1.jpg
END:VEVENT
BEGIN:VEVENT
DTSTART;VALUE=DATE:20260717
DTEND;VALUE=DATE:20260720
DTSTAMP:20260425T221442
CREATED:20260123T100434Z
LAST-MODIFIED:20260324T182040Z
UID:2453-1784246400-1784505599@www.fjdc.fi
SUMMARY:Jaguar-tapaaminen Iisalmessa
DESCRIPTION:Hyvät FJDC ry:n jäsenet. \nFinnish Jaguar Drivers’ Club ry:n vierailu Iisalmeen toteutetaan heinäkuussa 2026. Tapahtuma järjestetään yhteistyössä YläSavon Mobilistien ja Konepyöräilijät ry:n kanssa\, ja mielenkiintoista ohjelmaa on koko viikonlopulle perjantaista sunnuntaihin. \nTavoitteena on saada Jaguar autokuntia liikkeelle laajalta alueelta Oulu–Jyväskylä–Joensuu–Kuopio–Tampere–Lahti -akselilta. Arvioitu osallistujamäärä on noin 10–20 autokuntaa eli 20–40 henkilöä. \nOsallistujat vastaavat itse majoituksesta ja ruokailuista. Järjestävä yhdistys tarjoaa tutustumiset ja opastukset ja illanvieton ruokailun sekä ohjelman. \n  \nPerjantai 17.7. Saapuminen Spa Hotel Runni (www.spahotelrunni.fi)  \nKlo 15–17. Majoittuminen Spa Hotel Runni\, Kylpylähotellin Superior-huone. \nHotellista varattu 15 x 2hh\, kartanohotellista 5x2hh 30.4.2026 klo 16.00 saakka\, jonka jälkeen kiintiö purkautuu myyntiin muille halukkaille. Hinta 178€/ vrk huone yhdelle tai kahdelle\, sis. buffet aamiaisen\, savusaunan yleisövuorot klo 16-21 ja vapaan Spa osaston käytön koko päivän ajan. Varaukset: myyntipalvelu@spahotelrunni.fi tai p. 040 6671 846\, “koodi Jaguar”\, maksu saapuessa ja kuluton peruutusoikeus viim. 1 vrk ennen tuloa. Vahvistus varauksesta 30.4.2026 mennessä. Savusauna ja Spa mahdollisuus veloituksetta. \nJaguarit nättiin riviin parkkipaikalle valokuvausta varten. \nMajoittuminen Hotel Golden Dome\, Iisalmi (https://goldendome.fi/) \nHotellista varattu 5 x 2hh (Classic) 30.4.2026 klo 16.00 saakka\, jonka jälkeen kiintiö purkautuu myyntiin muille halukkaille. “Jaguar2026” koodilla saa hotellin kotisivuilta majoituksen sopimushinnalla. \nClassic -huone 2hh | 138 € / huone / yö (myös muita huoneita tarjolla)\, sis. majoitus ja aamiainen\nSähköauton lataus 15 €\nKlo 19 Ohjelmallinen illanvietto ja grilli- ilta\, Spa Hotel Runnin viheriö \nYlä-Savon Mobilistit ja Konepyöräilijät ry tarjoilee hotellin viheriöllä makkaroo ja täytettyjä muurinpohjalettuja. Mahdollisuus tuoda omat juomat. Ilmoita mahdolliset ruokarajoitteet. \nSavusauna 10 €\, savusauna ja spa 15 €\, jos et ole kylpylähotellin asiakas. \nLauantai 18.7. – Tutustutaan seutuun \nAamiainen majoituskohteessanne \nKlo 10 alkaen Iisalmessa: \nTepi Länsivuori näyttely (oppaana Jukka Nyman)\, \nJaguarit nättiin riviin Kauppakeskus Keisarinkulman parkkipaikalle valokuvausta varten. \nNäyttely kokoaa yhteen iisalmelaisen ratamoottoripyöräilijä Teuvo Länsivuoren uran huippuhetket. Näyttelyssä esillä mm. kilpapyöriä\, pokaaleja\, ajovarusteita sekä MM-mitalit. Kosketusnäytöiltä voit selata digiaineistona huikeita tunnelmia pitkin Eurooppaa Road Racing -vuosien varrelta. Tepin muistot kertovat Grand Prix -moottoripyöräilyn kulta-ajasta\, jolloin kuljettajien elämä oli todellakin pelissä kisatessa. \nOlvi- säätiön Panimomuseo opastettuna (Ylä-Savon Oppaat ry)\, \nJaguarit nättiin riviin Olvi- oluthallin parkkipaikalle valokuvausta varten. \nSuomen ainoaa yleisölle avoinna olevaa Panimomuseota ylläpitää voittoa tavoittelematon OLVI-säätiö\, joka vaalii samalla paikallisen panimon kulttuurimme perintöä. Panimomuseon näyttelyt ja audiovisuaalinen Olvi 145 vuotta -historiatarina johdattavat museokävijän kuohuvalle aikamatkalle mallasjuoman kuohuvaan maailmaan. \nYritysvierailu Genelec? tai joku muu\, vahvistuu kevään aikana. \nLounas Hotel Golden Domessa ohjelman lomassa. Sisältyy rekisteröintimaksuun. \nJaguarit nättiin riviin Kauppakeskus Keisarinkulman parkkipaikalle. \nVapaata aikaa tutustumiseen Iisalmeen. \nSähköauton lataus Iisalmen tori 22 kW Type 2\, kuusi (6) kpl \nOhjelman järjestys muotoutuu kevään aikana \nKlo 16 alkaen retkeilyajo Ruukin Tuvalle pikkujoulua viettämään ( Jyrkkä Sonkajärvi) \nJyrkän ruukki on yläsavolainen arkkitehtuuri nähtävyys\, jossa vanhat masuunit on entisöity rohkeilla suoja rakennuksilla. Ruukin Tuvan Museossa ja sen ympäristössä pääset tutustumaan Jyrkän rautaruukin historiaan upeassa ja luonnonläheisellä miljöössä. Ruukin yhteydessä toimii Ruukin Tupa kahvio\, ravintola\, kesäteatteri sekä mökkimajoitus palvelut. Oppaana Henri Jauhiainen. \nReitti kulkee Iisalmesta Sonkajärven kautta Jyrkälle n. 50 km. \nVietämme pikkujoulua torttukahvien merkeissä (omakustanne) \nJaguarit nättiin riviin Ruukin parkkipaikalle kuvausta varten. \nTonttulakki mukaan yhteiskuvaa varten \nKlo 17.30 paluu Jyrkkä- Runni n. 60 km. \nSähköauton lataus Vieremä K-Market Aromi\, 11 kw\, 1 kpl \nKlo 19.00 jäsen illallinen Spa Hotel Runni (omakustanne 28€/henk.) \nSunnuntai 19.7. – Maisema- ajelu ja päätös \nAamiainen majoituskohteessanne \nKlo 10.00 yhteinen maisemareitti: Runni- Iisalmi- Peltosalmi- Kotikylä- Martikkala- Lapinlahti. \nReitti tarjoaa hyvän tien ja hienot maisemat. \nKlo 11.00 opastettu tutustuminen Eemil Halosen taidemuseoon (Lapinlahti). \nHalosen taiteilijasuku- kokoelmanäyttely esittelee Eemil\, Antti\, Arttu\, Kalle\, Pekka ja Heikki Halosen taidetta Halosten Museosäätiön kokoelmista. \nJaguarit nättiin riviin valokuvausta varten. \nKlo 12.30 lounas Matin ja Liisan Asemalla Lapinlahdella\, \nSuomen paras lounas v. 2024 ja 2025 \nHinta 14\,60 €/ henkilö. \nSähköauton lataus 320 kW CCS\, kuusi (6) kpl \nJaguarit nättiin riviin parkkipaikalle valokuvausta varten \nLounaan ja lettukahvien jälkeen kissat kotimatkalle. \nIlmoittautuminen 30.4.2026 mennessä alla olevasta linkistä. Varaa majoitus itse. tapahtumaan on pieni 30€/ henkilö rekisteröintimaksu (tulee sähköpostiin) joka sisältää perjantai illanvieton\, lauantai lounaan\, Olvi Panimomuseon\, Tepi Länsivuori sekä Eemil Halosen näyttelyiden sisäänpääsyn ja opastuksen. \nLinkki:https://www.flomembers.com/fjdc/events/register/60c86ec2b4516ed5ee8b987fc16fec2a \nKiitos käynnistä – purr!  \nPohjoinen \nreijo.ilmasti@gmail.com \n045 146 4293 \nItä- Suomi \njarmoart@gmail.com \n045 207 6594 \n  \n 
URL:https://www.fjdc.fi/tapahtumat/jaguar-tapaaminen-iisalmessa/
LOCATION:Iisalmi
ATTACH;FMTTYPE=image/jpeg:https://www.fjdc.fi/wp-content/uploads/2026/01/Koljonvirrantaistelu2-2048x1365-1.jpg
END:VEVENT
BEGIN:VEVENT
DTSTART;TZID=Europe/Helsinki:20260717T180000
DTEND;TZID=Europe/Helsinki:20260717T210000
DTSTAMP:20260425T221442
CREATED:20260111T053749Z
LAST-MODIFIED:20260111T053749Z
UID:2443-1784311200-1784322000@www.fjdc.fi
SUMMARY:Vantaa Cruising
DESCRIPTION:Perinteiset cruisingit säässä kuin säässä.
URL:https://www.fjdc.fi/tapahtumat/vantaa-cruising-15/
LOCATION:Heureka\, Tiedepuisto 1\, Vantaa\, 01300
CATEGORIES:Yleiset tapahtumat
END:VEVENT
BEGIN:VEVENT
DTSTART;TZID=Europe/Helsinki:20260729T180000
DTEND;TZID=Europe/Helsinki:20260729T200000
DTSTAMP:20260425T221442
CREATED:20260111T053951Z
LAST-MODIFIED:20260111T053951Z
UID:2449-1785348000-1785355200@www.fjdc.fi
SUMMARY:Lahtelaiset Britit kohtaavat
DESCRIPTION:Suomen moottoripyörämuseo Lahdessa.
URL:https://www.fjdc.fi/tapahtumat/lahtelaiset-britit-kohtaavat-16/
LOCATION:Suomen moottoripyörämuseo\, Veistämönkatu 1\, Lahti\, 15140
CATEGORIES:Yleiset tapahtumat
END:VEVENT
END:VCALENDAR